BEGIN:VCALENDAR
VERSION:2.0
PRODID:-//Busker Villains - ECPv6.15.20//NONSGML v1.0//EN
CALSCALE:GREGORIAN
METHOD:PUBLISH
X-WR-CALNAME:Busker Villains
X-ORIGINAL-URL:https://buskervillains.de
X-WR-CALDESC:Veranstaltungen für Busker Villains
REFRESH-INTERVAL;VALUE=DURATION:PT1H
X-Robots-Tag:noindex
X-PUBLISHED-TTL:PT1H
BEGIN:VTIMEZONE
TZID:UTC
BEGIN:STANDARD
TZOFFSETFROM:+0000
TZOFFSETTO:+0000
TZNAME:UTC
DTSTART:20230101T000000
END:STANDARD
END:VTIMEZONE
BEGIN:VEVENT
DTSTART;TZID=UTC:20240503T213000
DTEND;TZID=UTC:20240503T230000
DTSTAMP:20260422T085929
CREATED:20240213T201319Z
LAST-MODIFIED:20260202T170420Z
UID:341-1714771800-1714777200@buskervillains.de
SUMMARY:Hammer Kultur Nacht 2026
DESCRIPTION:Auch in diesem Frühjahr tobt wieder die Hammer Kultur Nacht durch die Innenstadt. Zur diesjährigen HaKuNa kehren wir zurück ins „Hops & Spirits“. Wie man hört\, ist das Bier hier spitzenmäßig (Kunststück: Chef Sebastian ist Bier-Sommelier von Beruf!)\, aber die Musik an dem Abend soll auch ganz ordentlich sein. 😎
URL:https://buskervillains.de/event/kultur-nacht-2026/
LOCATION:Galerie der Disziplinen\, Heinrich-Reinköster-Straße 6\, Hamm\, 59065
ATTACH;FMTTYPE=image/jpeg:https://buskervillains.de/wp-content/uploads/2024/01/Hops-Spirits.jpg
END:VEVENT
END:VCALENDAR